BEGIN:VCALENDAR
VERSION:2.0
PRODID:-//CiviCRM//NONSGML CiviEvent iCal//EN
X-WR-TIMEZONE:America/Los_Angeles
METHOD:PUBLISH
BEGIN:VTIMEZONE
TZID:America/Los_Angeles
BEGIN:STANDARD
TZOFFSETFROM:-0800
TZOFFSETTO:-0800
TZNAME:PST
DTSTART:20261201T030000
END:STANDARD
END:VTIMEZONE
BEGIN:VEVENT
UID:CiviCRM_EventID_1470_c780af56d1cba2d8fcc30d69d10a6fe4@www.harstinecc.org
SUMMARY:Theatre Club Meeting
X-ALT-DESC;FMTTYPE=text/html:<!DOCTYPE HTML PUBLIC
  "-//W3C//DTD HTML 3.2//EN"><html><body><p>Harstin
 e Island Theatre Club was established in 1984 by t
 he late professional actress\, and island resident
 \, Shirl Conway Larson. She wrote\, directed\, and
  produced many early plays. In the beginning the c
 lub produced many Vaudeville shows drawing&nbsp\;f
 rom the island residents&rsquo\; talent.</p>\n \n 
 <p>Over time the club has gone through various pha
 ses depending on the talents of those involved. Du
 ring the&nbsp\;1990&rsquo\;s we produced massive&n
 bsp\;musicals under the direction of Gene Nelson. 
 In the years since\, the club has grown from an is
 land centric club to now include many members from
  the wider community.</p>\n \n <p>The Harstine Isl
 and Theatre Club is a friendly\, welcoming place f
 or those who wish to explore\, learn\, express the
 ir creative skills\, and put on productions. We we
 lcome diversity.&nbsp\;</p>\n \n <p>We meet at 7:0
 0 pm\, on the last Monday of every month at the Ha
 rstine Island Community Hall. We look forward to m
 eeting you! Contact&nbsp\;<a href="mailto:join-hit
 c@harstinecc.org">join-hitc@harstinecc.org</a>.</p
 ></body></html>
DESCRIPTION:Harstine Island Theatre Club was established in 19
 84 by the late professional actress\, and island r
 esident\, Shirl Conway Larson. She wrote\, directe
 d\, and produced many early plays. In the beginnin
 g the club produced many Vaudeville shows drawing 
 from the island residents’ talent.\n \n \n \n Over
  time the club has gone through various phases dep
 ending on the talents of those involved. During th
 e 1990’s we produced massive musicals under the di
 rection of Gene Nelson. In the years since\, the c
 lub has grown from an island centric club to now i
 nclude many members from the wider community.\n \n
  \n \n The Harstine Island Theatre Club is a frien
 dly\, welcoming place for those who wish to explor
 e\, learn\, express their creative skills\, and pu
 t on productions. We welcome diversity. \n \n \n \
 n We meet at 7:00 pm\, on the last Monday of every
  month at the Harstine Island Community Hall. We l
 ook forward to meeting you! Contact join-hitc@hars
 tinecc.org (mailto:join-hitc@harstinecc.org).\n \n
  
CATEGORIES:Theatre Club
CALSCALE:GREGORIAN
DTSTAMP;TZID=America/Los_Angeles:20261130T190000
DTSTART;TZID=America/Los_Angeles:20261130T190000
DTEND;TZID=America/Los_Angeles:20261130T203000
LOCATION:WA \n United States\n 
URL:https://www.harstinecc.org/civicrm/event/info/?reset=1&id=1470
END:VEVENT
END:VCALENDAR
