BEGIN:VCALENDAR
VERSION:2.0
PRODID:-//CiviCRM//NONSGML CiviEvent iCal//EN
X-WR-TIMEZONE:America/Los_Angeles
METHOD:PUBLISH
BEGIN:VTIMEZONE
TZID:America/Los_Angeles
BEGIN:DAYLIGHT
TZOFFSETFROM:-0700
TZOFFSETTO:-0700
TZNAME:PDT
DTSTART:20260425T210000
END:DAYLIGHT
END:VTIMEZONE
BEGIN:VEVENT
UID:CiviCRM_EventID_1527_c780af56d1cba2d8fcc30d69d10a6fe4@www.harstinecc.org
SUMMARY:Spring Play Dates - Theatre Club
X-ALT-DESC;FMTTYPE=text/html:<!DOCTYPE HTML PUBLIC
  "-//W3C//DTD HTML 3.2//EN"><html><body><p>Theatre
  Club Spring Play Dates<br />\n PLAY: RIPCORD -&nb
 sp\;check back soon for more play information and 
 performance details.</p>\n \n <p>April 24 -&nbsp\;
  7:30pm</p>\n \n <p>April 25 - 2pm</p>\n \n <p>Apr
 il 26-&nbsp\; 2pm</p>\n \n <p>May 1 - 7:30pm</p>\n
  \n <p>May 2 - 7:30pm</p>\n \n <p>May 3 - 2pm</p>\
 n \n <p><br />\n &nbsp\;</p></body></html>
DESCRIPTION:Theatre Club Spring Play Dates\n \n PLAY: RIPCORD 
 - check back soon for more play information and pe
 rformance details.\n \n \n \n April 24 -  7:30pm\n
  \n \n \n April 25 - 2pm\n \n \n \n April 26-  2pm
 \n \n \n \n May 1 - 7:30pm\n \n \n \n May 2 - 7:30
 pm\n \n \n \n May 3 - 2pm\n \n \n \n \n \n  \n \n 
CATEGORIES:Theatre Club
CALSCALE:GREGORIAN
DTSTAMP;TZID=America/Los_Angeles:20260425T140000
DTSTART;TZID=America/Los_Angeles:20260425T140000
DTEND;TZID=America/Los_Angeles:20260425T160000
LOCATION:WA \n United States\n 
URL:https://www.harstinecc.org/civicrm/event/info/?reset=1&id=1527
END:VEVENT
END:VCALENDAR
