BEGIN:VCALENDAR
VERSION:2.0
PRODID:-//CiviCRM//NONSGML CiviEvent iCal//EN
X-WR-TIMEZONE:America/Los_Angeles
METHOD:PUBLISH
BEGIN:VTIMEZONE
TZID:America/Los_Angeles
BEGIN:DAYLIGHT
TZOFFSETFROM:-0700
TZOFFSETTO:-0700
TZNAME:PDT
DTSTART:20260705T210000
END:DAYLIGHT
END:VTIMEZONE
BEGIN:VEVENT
UID:CiviCRM_EventID_1537_c780af56d1cba2d8fcc30d69d10a6fe4@www.harstinecc.org
SUMMARY:Summer Play Dates - Theatre Club
X-ALT-DESC;FMTTYPE=text/html:<!DOCTYPE HTML PUBLIC
  "-//W3C//DTD HTML 3.2//EN"><html><body><p>Summer 
 2026 Play Dates<br />\n <br />\n <strong>Play -&nb
 sp\;<em>1776 - check back soon for more inormation
 </em></strong></p>\n \n <p>June 26 - 7:30pm</p>\n 
 \n <p>June 27 - 7:30pm</p>\n \n <p>June 28&nbsp\;-
  2pm</p>\n \n <p>July 3 - 7:30pm</p>\n \n <p>July 
 4 - 2pm</p>\n \n <p>July 5 - 2pm</p></body></html>
DESCRIPTION:Summer 2026 Play Dates\n \n \n \n Play - 1776 - ch
 eck back soon for more inormation\n \n \n \n June 
 26 - 7:30pm\n \n \n \n June 27 - 7:30pm\n \n \n \n
  June 28 - 2pm\n \n \n \n July 3 - 7:30pm\n \n \n 
 \n July 4 - 2pm\n \n \n \n July 5 - 2pm\n \n 
CATEGORIES:Theatre Club
CALSCALE:GREGORIAN
DTSTAMP;TZID=America/Los_Angeles:20260705T140000
DTSTART;TZID=America/Los_Angeles:20260705T140000
DTEND;TZID=America/Los_Angeles:20260705T160000
LOCATION:WA \n United States\n 
URL:https://www.harstinecc.org/civicrm/event/info/?reset=1&id=1537
END:VEVENT
END:VCALENDAR
