BEGIN:VCALENDAR
VERSION:2.0
PRODID:-//CiviCRM//NONSGML CiviEvent iCal//EN
X-WR-TIMEZONE:America/Los_Angeles
METHOD:PUBLISH
BEGIN:VTIMEZONE
TZID:America/Los_Angeles
BEGIN:STANDARD
TZOFFSETFROM:-0800
TZOFFSETTO:-0800
TZNAME:PST
DTSTART:20261121T030000
END:STANDARD
END:VTIMEZONE
BEGIN:VEVENT
UID:CiviCRM_EventID_1539_c780af56d1cba2d8fcc30d69d10a6fe4@www.harstinecc.org
SUMMARY:Winter Play Dates - Theatre Club
X-ALT-DESC;FMTTYPE=text/html:<!DOCTYPE HTML PUBLIC
  "-//W3C//DTD HTML 3.2//EN"><html><body><p>Winter 
 2026 Play Dates<br />\n &nbsp\;</p>\n \n <p><stron
 g>Winter 2026 play - TBD</strong></p>\n \n <p>Nov 
 19 - 7pm</p>\n \n <p>Nov 20 - 7pm</p>\n \n <p>Nov 
 21 - 2pm</p>\n \n <p>Nov 22 - 2pm</p></body></html
 >
DESCRIPTION:Winter 2026 Play Dates\n \n  \n \n \n \n Winter 20
 26 play - TBD\n \n \n \n Nov 19 - 7pm\n \n \n \n N
 ov 20 - 7pm\n \n \n \n Nov 21 - 2pm\n \n \n \n Nov
  22 - 2pm\n \n 
CATEGORIES:Theatre Club
CALSCALE:GREGORIAN
DTSTAMP;TZID=America/Los_Angeles:20261120T190000
DTSTART;TZID=America/Los_Angeles:20261120T190000
DTEND;TZID=America/Los_Angeles:20261120T210000
LOCATION:WA \n United States\n 
URL:https://www.harstinecc.org/civicrm/event/info/?reset=1&id=1539
END:VEVENT
END:VCALENDAR
