BEGIN:VCALENDAR
VERSION:2.0
PRODID:-//CiviCRM//NONSGML CiviEvent iCal//EN
X-WR-TIMEZONE:America/Los_Angeles
METHOD:PUBLISH
BEGIN:VTIMEZONE
TZID:America/Los_Angeles
BEGIN:DAYLIGHT
TZOFFSETFROM:-0700
TZOFFSETTO:-0700
TZNAME:PDT
DTSTART:20261010T170000
END:DAYLIGHT
END:VTIMEZONE
BEGIN:VEVENT
UID:CiviCRM_EventID_1545_c780af56d1cba2d8fcc30d69d10a6fe4@www.harstinecc.org
SUMMARY:Indoor Farmers Market
X-ALT-DESC;FMTTYPE=text/html:<!DOCTYPE HTML PUBLIC
  "-//W3C//DTD HTML 3.2//EN"><html><body><h2><!-- w
 p:heading {"level":3} --></h2>\n \n <h3>2nd Saturd
 ay Indoor Market</h3>\n \n <p><!-- /wp:heading -->
 <!-- wp:paragraph --></p>\n \n <p>The <strong>Indo
 or Market</strong> is your cozy monthly stop for l
 ocal goodness\, handmade treasures\, and friendly 
 island vibes. Come wander\, snack\, and discover s
 omething beautiful - made right here by our commun
 ity. ✨🛍️</p>\n \n <p><!-- /wp:paragraph --><!-- wp
 :paragraph --></p>\n \n <p>You&rsquo\;ll find <str
 ong>artisan + craft vendors</strong> with handmade
  gifts\, home d&eacute\;cor\, soap\, baked goods\,
  gourmet foods\, farm-fresh eggs\, and more. It&rs
 quo\;s an easy\, feel-good outing for all ages. 💛<
 /p>\n \n <p><!-- /wp:paragraph --><!-- wp:paragrap
 h --></p>\n \n <p><strong>When:</strong> Second Sa
 turday of every month\, 10AM to noon ⏰<br />\n <st
 rong>Where: </strong>Harstine Island Community Hal
 l 📍<br />\n <strong>What:</strong> Artisan &amp\; 
 craft market featuring handmade gifts\, home d&eac
 ute\;cor\, soap\, baked goods\, gourmet food\, far
 m-fresh eggs\, and more 🧼🍞🥚<br />\n <strong>Cost: 
 Free entry </strong>🎉<!-- /wp:paragraph --></p>\n 
 \n <p>Vendors wishing to participate should contac
 t <a href="mailto:farmersmarket@harstinecc.org">fa
 rmersmarket@harstinecc.org</a>.</p></body></html>
DESCRIPTION:\n \n \n 2nd Saturday Indoor Market\n \n \n \n \n 
 \n \n The Indoor Market is your cozy monthly stop 
 for local goodness\, handmade treasures\, and frie
 ndly island vibes. Come wander\, snack\, and disco
 ver something beautiful - made right here by our c
 ommunity. ✨🛍️\n \n \n \n \n \n \n \n You’ll find a
 rtisan + craft vendors with handmade gifts\, home 
 décor\, soap\, baked goods\, gourmet foods\, farm-
 fresh eggs\, and more. It’s an easy\, feel-good ou
 ting for all ages. 💛\n \n \n \n \n \n \n \n When: 
 Second Saturday of every month\, 10AM to noon ⏰\n 
 \n Where: Harstine Island Community Hall 📍\n \n Wh
 at: Artisan & craft market featuring handmade gift
 s\, home décor\, soap\, baked goods\, gourmet food
 \, farm-fresh eggs\, and more 🧼🍞🥚\n \n Cost: Free 
 entry 🎉\n \n \n \n Vendors wishing to participate 
 should contact farmersmarket@harstinecc.org (mailt
 o:farmersmarket@harstinecc.org).\n \n 
CATEGORIES:Indoor Farmers Market
CALSCALE:GREGORIAN
DTSTAMP;TZID=America/Los_Angeles:20261010T100000
DTSTART;TZID=America/Los_Angeles:20261010T100000
DTEND;TZID=America/Los_Angeles:20261010T120000
LOCATION:WA \n United States\n 
URL:https://www.harstinecc.org/civicrm/event/info/?reset=1&id=1545
END:VEVENT
END:VCALENDAR
