BEGIN:VCALENDAR
VERSION:2.0
PRODID:-//CiviCRM//NONSGML CiviEvent iCal//EN
X-WR-TIMEZONE:America/Los_Angeles
METHOD:PUBLISH
BEGIN:VTIMEZONE
TZID:America/Los_Angeles
BEGIN:DAYLIGHT
TZOFFSETFROM:-0700
TZOFFSETTO:-0700
TZNAME:PDT
DTSTART:20260620T170000
END:DAYLIGHT
END:VTIMEZONE
BEGIN:VEVENT
UID:CiviCRM_EventID_1552_c780af56d1cba2d8fcc30d69d10a6fe4@www.harstinecc.org
SUMMARY:Farmers Market
X-ALT-DESC;FMTTYPE=text/html:<!DOCTYPE HTML PUBLIC
  "-//W3C//DTD HTML 3.2//EN"><html><body><h2><!-- w
 p:heading {"level":3} --></h2>\n \n <h3>Saturday F
 armers &amp\; Artisan Market</h3>\n \n <p><!-- /wp
 :heading --><!-- wp:paragraph --></p>\n \n <p>The 
 Harstine Island Farmers Market is your weekly summ
 er gathering place - fresh air\, friendly faces\, 
 and that feel-good island energy. Come stroll\, sa
 y HI to neighbors\, meet new friends\, and make Sa
 turday mornings a little brighter. 🌞🌿</p>\n \n <p>
 <!-- /wp:paragraph --><!-- wp:paragraph --></p>\n 
 \n <p>Shop local produce alongside artisan and cra
 ft vendors - handmade goods\, home d&eacute\;cor\,
  treats\, and seasonal surprises. It&rsquo\;s more
  than a market&hellip\; it&rsquo\;s a weekly commu
 nity hangout. 🥕🍓🧺</p>\n \n <p><!-- /wp:paragraph -
 -><!-- wp:paragraph --></p>\n \n <p><strong>When:<
 /strong>&nbsp\;SATURDAY MORNINGS -&nbsp\; May 23rd
  - September 26th\, 2026 - 10AM to noon ⏰<br />\n 
 <strong>Where:</strong> Harstine Island Community 
 Hall (outdoor market) 📍🌤️<br />\n <strong>What:</s
 trong> Local produce + artisan and craft vendors\,
  handmade gifts\, home d&eacute\;cor\, baked goods
 \, and more 🥬🧁🕯️<br />\n <strong>Vibe:</strong> Li
 vely weekly gathering space to connect\, mingle\, 
 and support local makers and farmers 🤝💚<br />\n <s
 trong>Cost:</strong> Free entry 🎉</p>\n \n <p><!--
  /wp:paragraph --></p>\n \n <p>Vendors wishing to 
 participate should contact <a href="mailto:farmers
 market@harstinecc.org">farmersmarket@harstinecc.or
 g</a>.</p></body></html>
DESCRIPTION:\n \n \n Saturday Farmers & Artisan Market\n \n \n
  \n \n \n \n The Harstine Island Farmers Market is
  your weekly summer gathering place - fresh air\, 
 friendly faces\, and that feel-good island energy.
  Come stroll\, say HI to neighbors\, meet new frie
 nds\, and make Saturday mornings a little brighter
 . 🌞🌿\n \n \n \n \n \n \n \n Shop local produce alo
 ngside artisan and craft vendors - handmade goods\
 , home décor\, treats\, and seasonal surprises. It
 ’s more than a market… it’s a weekly community han
 gout. 🥕🍓🧺\n \n \n \n \n \n \n \n When: SATURDAY MO
 RNINGS -  May 23rd - September 26th\, 2026 - 10AM 
 to noon ⏰\n \n Where: Harstine Island Community Ha
 ll (outdoor market) 📍🌤️\n \n What: Local produce +
  artisan and craft vendors\, handmade gifts\, home
  décor\, baked goods\, and more 🥬🧁🕯️\n \n Vibe: Li
 vely weekly gathering space to connect\, mingle\, 
 and support local makers and farmers 🤝💚\n \n Cost:
  Free entry 🎉\n \n \n \n \n \n \n \n Vendors wishi
 ng to participate should contact farmersmarket@har
 stinecc.org (mailto:farmersmarket@harstinecc.org).
 \n \n 
CATEGORIES:Outdoor Farmers Market
CALSCALE:GREGORIAN
DTSTAMP;TZID=America/Los_Angeles:20260620T100000
DTSTART;TZID=America/Los_Angeles:20260620T100000
DTEND;TZID=America/Los_Angeles:20260620T120000
LOCATION:WA \n United States\n 
URL:https://www.harstinecc.org/civicrm/event/info/?reset=1&id=1552
END:VEVENT
END:VCALENDAR
